BEGIN:VCALENDAR
VERSION:2.0
PRODID:http://www.infomax-online.de/imxeventmanager/
METHOD:PUBLISH
BEGIN:VTIMEZONE
TZID:Europe/Berlin
TZURL:http://tzurl.org/zoneinfo-outlook/Europe/Berlin
X-LIC-LOCATION:Europe/Berlin
END:VTIMEZONE
BEGIN:VEVENT
UID:69eb3a28d51f2
LOCATION:Kolpingstraße 22, 83714 Miesbach
SUMMARY:Kinderchor Miesbach - Parsberg | für alle Kinder der 1. und 2. Klasse
DESCRIPTION:wer: f&uuml\;r alle Kinder der 1. und 2. Klasse

wo: Pfarrheim Miesbach\, Kolpingstra&szlig\;e 22

wann: mittwochs von 15:30 bis 16:30 Uhr (nicht in den Ferien)

&nbsp\;
URL;VALUE=URI:https://www.miesbach-tourismus.de/
CLASS:PUBLIC
DTSTART:20260520T153000
DTSTAMP:20260424T113848
END:VEVENT
END:VCALENDAR