BEGIN:VCALENDAR
VERSION:2.0
PRODID:http://www.infomax-online.de/imxeventmanager/
METHOD:PUBLISH
BEGIN:VTIMEZONE
TZID:Europe/Berlin
TZURL:http://tzurl.org/zoneinfo-outlook/Europe/Berlin
X-LIC-LOCATION:Europe/Berlin
END:VTIMEZONE
BEGIN:VEVENT
UID:69e75e4e4c84a
LOCATION:Kolpingstraße 22, 83714 Miesbach
SUMMARY:Einladung zur Fraueninsel | Farbe für den Frühling - Farbe für die Fantasie
DESCRIPTION:mit Tusche\, Tinte\, Acrylmarker\, ungew&ouml\;hnlichen Malmitteln und viel\, viel Farbe.
URL;VALUE=URI:https://www.miesbach-tourismus.de/
CLASS:PUBLIC
DTSTART:20260421T193000
DTSTAMP:20260421T132358
END:VEVENT
END:VCALENDAR