BEGIN:VCALENDAR
VERSION:2.0
PRODID:http://www.infomax-online.de/imxeventmanager/
METHOD:PUBLISH
BEGIN:VTIMEZONE
TZID:Europe/Berlin
TZURL:http://tzurl.org/zoneinfo-outlook/Europe/Berlin
X-LIC-LOCATION:Europe/Berlin
END:VTIMEZONE
BEGIN:VEVENT
UID:69ea03215fdf2
LOCATION:Schlierseer Str. 16, 83714 Miesbach
SUMMARY:FASSzination | Das bayrische Magic-Dinner mit Florian Otto!
DESCRIPTION:Eine kulinarische Reise in die Welt der wei&szlig\;blauen Zau&shy\;berkunst. Der bekannte Magier Florian Otto pr&auml\;sentiert Ihnen seine einzigartige Kabarett-Zaubershow zum Lachen und Staunen. Ganz nach dem Motto &sbquo\;Es gibt nix\, wos ned gibt!&lsquo\; &ouml\;ffnet er ein gro&szlig\;es Fass\, randgef&uuml\;llt mit bayrischem Entertainment.

Begleitet wird der Abend im Culinaria durch ein k&ouml\;stliches 3-G&auml\;nge-Men&uuml\;.

Zauber-\, Kabarett- und Kulinarik-Fans kommen hier voll auf ihre Kosten.

Karten erh&auml\;ltlich im Culinaria Restaurant &amp\; Bar Miesbach\, Tel. 08025 7000-60\, www.culinaria-miesbach.de

&nbsp\;
URL;VALUE=URI:https://www.miesbach-tourismus.de/
CLASS:PUBLIC
DTSTART:20261106T180000
DTSTAMP:20260423T133145
END:VEVENT
END:VCALENDAR